BEGIN:VCALENDAR
VERSION:2.0
PRODID:-//Pétanque Lijnden - ECPv6.15.20//NONSGML v1.0//EN
CALSCALE:GREGORIAN
METHOD:PUBLISH
X-WR-CALNAME:Pétanque Lijnden
X-ORIGINAL-URL:https://petanquelijnden.nl
X-WR-CALDESC:Evenementen voor Pétanque Lijnden
REFRESH-INTERVAL;VALUE=DURATION:PT1H
X-Robots-Tag:noindex
X-PUBLISHED-TTL:PT1H
BEGIN:VTIMEZONE
TZID:Europe/Amsterdam
BEGIN:DAYLIGHT
TZOFFSETFROM:+0100
TZOFFSETTO:+0200
TZNAME:CEST
DTSTART:20220327T010000
END:DAYLIGHT
BEGIN:STANDARD
TZOFFSETFROM:+0200
TZOFFSETTO:+0100
TZNAME:CET
DTSTART:20221030T010000
END:STANDARD
BEGIN:DAYLIGHT
TZOFFSETFROM:+0100
TZOFFSETTO:+0200
TZNAME:CEST
DTSTART:20230326T010000
END:DAYLIGHT
BEGIN:STANDARD
TZOFFSETFROM:+0200
TZOFFSETTO:+0100
TZNAME:CET
DTSTART:20231029T010000
END:STANDARD
BEGIN:DAYLIGHT
TZOFFSETFROM:+0100
TZOFFSETTO:+0200
TZNAME:CEST
DTSTART:20240331T010000
END:DAYLIGHT
BEGIN:STANDARD
TZOFFSETFROM:+0200
TZOFFSETTO:+0100
TZNAME:CET
DTSTART:20241027T010000
END:STANDARD
BEGIN:DAYLIGHT
TZOFFSETFROM:+0100
TZOFFSETTO:+0200
TZNAME:CEST
DTSTART:20250330T010000
END:DAYLIGHT
BEGIN:STANDARD
TZOFFSETFROM:+0200
TZOFFSETTO:+0100
TZNAME:CET
DTSTART:20251026T010000
END:STANDARD
BEGIN:DAYLIGHT
TZOFFSETFROM:+0100
TZOFFSETTO:+0200
TZNAME:CEST
DTSTART:20260329T010000
END:DAYLIGHT
BEGIN:STANDARD
TZOFFSETFROM:+0200
TZOFFSETTO:+0100
TZNAME:CET
DTSTART:20261025T010000
END:STANDARD
END:VTIMEZONE
BEGIN:VTIMEZONE
TZID:Europe/Helsinki
BEGIN:DAYLIGHT
TZOFFSETFROM:+0200
TZOFFSETTO:+0300
TZNAME:EEST
DTSTART:20220327T010000
END:DAYLIGHT
BEGIN:STANDARD
TZOFFSETFROM:+0300
TZOFFSETTO:+0200
TZNAME:EET
DTSTART:20221030T010000
END:STANDARD
BEGIN:DAYLIGHT
TZOFFSETFROM:+0200
TZOFFSETTO:+0300
TZNAME:EEST
DTSTART:20230326T010000
END:DAYLIGHT
BEGIN:STANDARD
TZOFFSETFROM:+0300
TZOFFSETTO:+0200
TZNAME:EET
DTSTART:20231029T010000
END:STANDARD
BEGIN:DAYLIGHT
TZOFFSETFROM:+0200
TZOFFSETTO:+0300
TZNAME:EEST
DTSTART:20240331T010000
END:DAYLIGHT
BEGIN:STANDARD
TZOFFSETFROM:+0300
TZOFFSETTO:+0200
TZNAME:EET
DTSTART:20241027T010000
END:STANDARD
BEGIN:DAYLIGHT
TZOFFSETFROM:+0200
TZOFFSETTO:+0300
TZNAME:EEST
DTSTART:20250330T010000
END:DAYLIGHT
BEGIN:STANDARD
TZOFFSETFROM:+0300
TZOFFSETTO:+0200
TZNAME:EET
DTSTART:20251026T010000
END:STANDARD
END:VTIMEZONE
BEGIN:VEVENT
DTSTART;TZID=Europe/Amsterdam:20250211T184500
DTEND;TZID=Europe/Amsterdam:20250211T184500
DTSTAMP:20260419T232125
CREATED:20250108T085143Z
LAST-MODIFIED:20250108T085147Z
UID:1234-1739299500-1739299500@petanquelijnden.nl
SUMMARY:Clubkampioenschappen 2025 Dag 2
DESCRIPTION:
URL:https://petanquelijnden.nl/event/clubkampioenschappen-2025-dag-2/
LOCATION:Petanque Lijnden\, Schipholweg 649\, Lijnden\, 1175 KR\, Nederland
CATEGORIES:Club wedstrijden
END:VEVENT
BEGIN:VEVENT
DTSTART;TZID=Europe/Amsterdam:20250114T184500
DTEND;TZID=Europe/Amsterdam:20250114T223000
DTSTAMP:20260419T232125
CREATED:20250108T084808Z
LAST-MODIFIED:20250108T084808Z
UID:1228-1736880300-1736893800@petanquelijnden.nl
SUMMARY:Clubkampioenschappen 2025 Dag1
DESCRIPTION:
URL:https://petanquelijnden.nl/event/clubkampioenschappen-2025-dag1/
LOCATION:Petanque Lijnden\, Schipholweg 649\, Lijnden\, 1175 KR\, Nederland
CATEGORIES:Club wedstrijden
END:VEVENT
BEGIN:VEVENT
DTSTART;TZID=Europe/Amsterdam:20250104T120000
DTEND;TZID=Europe/Amsterdam:20250104T170000
DTSTAMP:20260419T232125
CREATED:20241219T070631Z
LAST-MODIFIED:20241219T070635Z
UID:1210-1735992000-1736010000@petanquelijnden.nl
SUMMARY:Nieuwjaarsreceptie 2025
DESCRIPTION:
URL:https://petanquelijnden.nl/event/nieuwjaarsreceptie-2025/
LOCATION:Petanque Lijnden\, Schipholweg 649\, Lijnden\, 1175 KR\, Nederland
CATEGORIES:Club wedstrijden
END:VEVENT
BEGIN:VEVENT
DTSTART;TZID=Europe/Amsterdam:20241221T113000
DTEND;TZID=Europe/Amsterdam:20241221T170000
DTSTAMP:20260419T232125
CREATED:20241129T061432Z
LAST-MODIFIED:20241213T162739Z
UID:1202-1734780600-1734800400@petanquelijnden.nl
SUMMARY:Kerst toernooi 21 december 2024
DESCRIPTION:
URL:https://petanquelijnden.nl/event/kerst-toernooi-21-december-2024/
LOCATION:Petanque Lijnden\, Schipholweg 649\, Lijnden\, 1175 KR\, Nederland
CATEGORIES:Club wedstrijden
END:VEVENT
BEGIN:VEVENT
DTSTART;TZID=Europe/Amsterdam:20241203T184500
DTEND;TZID=Europe/Amsterdam:20241203T223000
DTSTAMP:20260419T232125
CREATED:20241119T071012Z
LAST-MODIFIED:20241119T071012Z
UID:1188-1733251500-1733265000@petanquelijnden.nl
SUMMARY:Sinterklaas Toernooi 3 december 2024
DESCRIPTION:
URL:https://petanquelijnden.nl/event/sinterklaas-toernooi-3-december-2024/
LOCATION:Petanque Lijnden\, Schipholweg 649\, Lijnden\, 1175 KR\, Nederland
CATEGORIES:Club wedstrijden
END:VEVENT
BEGIN:VEVENT
DTSTART;TZID=Europe/Amsterdam:20241029T184500
DTEND;TZID=Europe/Amsterdam:20241029T190000
DTSTAMP:20260419T232125
CREATED:20241019T214619Z
LAST-MODIFIED:20241019T214722Z
UID:1184-1730227500-1730228400@petanquelijnden.nl
SUMMARY:Happy Halloween Toernooi 2024
DESCRIPTION:
URL:https://petanquelijnden.nl/event/happy-halloween-toernooi-2024/
LOCATION:Petanque Lijnden\, Schipholweg 649\, Lijnden\, 1175 KR\, Nederland
CATEGORIES:Club wedstrijden
END:VEVENT
BEGIN:VEVENT
DTSTART;TZID=Europe/Amsterdam:20241012T120000
DTEND;TZID=Europe/Amsterdam:20241012T170000
DTSTAMP:20260419T232125
CREATED:20241007T063434Z
LAST-MODIFIED:20241007T063434Z
UID:1177-1728734400-1728752400@petanquelijnden.nl
SUMMARY:Snert toernooi 12 oktober 2024
DESCRIPTION:
URL:https://petanquelijnden.nl/event/snert-toernooi-12-oktober-2024/
LOCATION:Petanque Lijnden\, Schipholweg 649\, Lijnden\, 1175 KR\, Nederland
CATEGORIES:Club wedstrijden
END:VEVENT
BEGIN:VEVENT
DTSTART;TZID=Europe/Amsterdam:20240727T123000
DTEND;TZID=Europe/Amsterdam:20240727T170000
DTSTAMP:20260419T232125
CREATED:20240621T062050Z
LAST-MODIFIED:20240621T062050Z
UID:1080-1722083400-1722099600@petanquelijnden.nl
SUMMARY:BBQ toernooi 2024
DESCRIPTION:
URL:https://petanquelijnden.nl/event/bbq-toernooi-2024/
LOCATION:Petanque Lijnden\, Schipholweg 649\, Lijnden\, 1175 KR\, Nederland
CATEGORIES:Club wedstrijden
END:VEVENT
BEGIN:VEVENT
DTSTART;TZID=Europe/Amsterdam:20240706T123000
DTEND;TZID=Europe/Amsterdam:20240706T170000
DTSTAMP:20260419T232125
CREATED:20240703T141340Z
LAST-MODIFIED:20240703T141340Z
UID:1087-1720269000-1720285200@petanquelijnden.nl
SUMMARY:Oranjetoernooi 6 juli  2024
DESCRIPTION:
URL:https://petanquelijnden.nl/event/oranjetoernooi-6-juli-2024/
LOCATION:Petanque Lijnden\, Schipholweg 649\, Lijnden\, 1175 KR\, Nederland
CATEGORIES:Club wedstrijden
END:VEVENT
BEGIN:VEVENT
DTSTART;TZID=Europe/Amsterdam:20240615T120000
DTEND;TZID=Europe/Amsterdam:20240615T170000
DTSTAMP:20260419T232125
CREATED:20240510T160324Z
LAST-MODIFIED:20240510T160412Z
UID:1069-1718452800-1718470800@petanquelijnden.nl
SUMMARY:Zomer toernooi  15 juni 2024
DESCRIPTION:
URL:https://petanquelijnden.nl/event/zomer-toernooi-2024/
LOCATION:Petanque Lijnden\, Schipholweg 649\, Lijnden\, 1175 KR\, Nederland
CATEGORIES:Club wedstrijden
END:VEVENT
BEGIN:VEVENT
DTSTART;TZID=Europe/Amsterdam:20240511T120000
DTEND;TZID=Europe/Amsterdam:20240511T170000
DTSTAMP:20260419T232125
CREATED:20240426T095559Z
LAST-MODIFIED:20240426T095559Z
UID:1049-1715428800-1715446800@petanquelijnden.nl
SUMMARY:Verrasingstoernooi 11 mei 2024
DESCRIPTION:
URL:https://petanquelijnden.nl/event/verrasingstoernooi-11-mei-2024/
LOCATION:Petanque Lijnden\, Schipholweg 649\, Lijnden\, 1175 KR\, Nederland
CATEGORIES:Club wedstrijden
END:VEVENT
BEGIN:VEVENT
DTSTART;TZID=Europe/Helsinki:20240427T123000
DTEND;TZID=Europe/Helsinki:20240427T170000
DTSTAMP:20260419T232125
CREATED:20240415T170049Z
LAST-MODIFIED:20240415T170049Z
UID:1035-1714221000-1714237200@petanquelijnden.nl
SUMMARY:Koningsdag toernooi
DESCRIPTION:
URL:https://petanquelijnden.nl/event/koningsdag-toernooi/
LOCATION:Petanque Lijnden\, Schipholweg 649\, Lijnden\, 1175 KR\, Nederland
CATEGORIES:Club wedstrijden
END:VEVENT
BEGIN:VEVENT
DTSTART;TZID=Europe/Amsterdam:20240427T120000
DTEND;TZID=Europe/Amsterdam:20240427T170000
DTSTAMP:20260419T232125
CREATED:20240426T095006Z
LAST-MODIFIED:20240426T095006Z
UID:1046-1714219200-1714237200@petanquelijnden.nl
SUMMARY:Koningsdag Toernooi 2024
DESCRIPTION:
URL:https://petanquelijnden.nl/event/koningsdag-toernooi-2024/
LOCATION:Petanque Lijnden\, Schipholweg 649\, Lijnden\, 1175 KR\, Nederland
CATEGORIES:Club wedstrijden
END:VEVENT
BEGIN:VEVENT
DTSTART;TZID=Europe/Helsinki:20240420T120000
DTEND;TZID=Europe/Helsinki:20240420T170000
DTSTAMP:20260419T232125
CREATED:20240415T164229Z
LAST-MODIFIED:20240415T164229Z
UID:1025-1713614400-1713632400@petanquelijnden.nl
SUMMARY:Bad en Body toernooi 20 April 2024
DESCRIPTION:
URL:https://petanquelijnden.nl/event/bad-en-body-toernooi-20-april-2024/
LOCATION:Petanque Lijnden\, Schipholweg 649\, Lijnden\, 1175 KR\, Nederland
CATEGORIES:Club wedstrijden
END:VEVENT
BEGIN:VEVENT
DTSTART;TZID=Europe/Helsinki:20231111T113000
DTEND;TZID=Europe/Helsinki:20231111T170000
DTSTAMP:20260419T232125
CREATED:20230919T100844Z
LAST-MODIFIED:20230919T100844Z
UID:822-1699702200-1699722000@petanquelijnden.nl
SUMMARY:Snert toernooi
DESCRIPTION:
URL:https://petanquelijnden.nl/event/snert-toernooi/
LOCATION:Petanque Lijnden\, Schipholweg 649\, Lijnden\, 1175 KR\, Nederland
CATEGORIES:Club wedstrijden
END:VEVENT
BEGIN:VEVENT
DTSTART;TZID=Europe/Helsinki:20231031T190000
DTEND;TZID=Europe/Helsinki:20231031T223000
DTSTAMP:20260419T232125
CREATED:20230919T100729Z
LAST-MODIFIED:20231030T121936Z
UID:820-1698778800-1698791400@petanquelijnden.nl
SUMMARY:Halloween toernooi ( neem zaklantaarn mee)
DESCRIPTION:
URL:https://petanquelijnden.nl/event/halloween-toernooi/
LOCATION:Petanque Lijnden\, Schipholweg 649\, Lijnden\, 1175 KR\, Nederland
CATEGORIES:Club wedstrijden
END:VEVENT
BEGIN:VEVENT
DTSTART;TZID=Europe/Helsinki:20230826T123000
DTEND;TZID=Europe/Helsinki:20230826T170000
DTSTAMP:20260419T232125
CREATED:20230718T140727Z
LAST-MODIFIED:20230718T141922Z
UID:749-1693053000-1693069200@petanquelijnden.nl
SUMMARY:BBQ met familie en eventueel een klein toernooi.
DESCRIPTION:
URL:https://petanquelijnden.nl/event/bbq-met-familie-en-eventueel-een-klein-toernooi/
LOCATION:Petanque Lijnden\, Schipholweg 649\, Lijnden\, 1175 KR\, Nederland
CATEGORIES:Club wedstrijden
END:VEVENT
BEGIN:VEVENT
DTSTART;TZID=Europe/Helsinki:20230819T123000
DTEND;TZID=Europe/Helsinki:20230819T170000
DTSTAMP:20260419T232125
CREATED:20230623T071543Z
LAST-MODIFIED:20230718T140839Z
UID:739-1692448200-1692464400@petanquelijnden.nl
SUMMARY:Haring toernooi
DESCRIPTION:
URL:https://petanquelijnden.nl/event/haring-toernooi/
LOCATION:Petanque Lijnden\, Schipholweg 649\, Lijnden\, 1175 KR\, Nederland
CATEGORIES:Club wedstrijden
END:VEVENT
BEGIN:VEVENT
DTSTART;TZID=Europe/Helsinki:20230620T183000
DTEND;TZID=Europe/Helsinki:20230620T223000
DTSTAMP:20260419T232125
CREATED:20230322T124116Z
LAST-MODIFIED:20230322T124116Z
UID:695-1687285800-1687300200@petanquelijnden.nl
SUMMARY:Zomer toernooi 2023
DESCRIPTION:
URL:https://petanquelijnden.nl/event/zomer-toernooi-2023/
LOCATION:Petanque Lijnden\, Schipholweg 649\, Lijnden\, 1175 KR\, Nederland
CATEGORIES:Club wedstrijden
END:VEVENT
BEGIN:VEVENT
DTSTART;TZID=Europe/Helsinki:20230620T183000
DTEND;TZID=Europe/Helsinki:20230620T220000
DTSTAMP:20260419T232125
CREATED:20230509T132610Z
LAST-MODIFIED:20230512T062434Z
UID:721-1687285800-1687298400@petanquelijnden.nl
SUMMARY:Korte broeken Toernooi Dinsdag Avond 20 juni 2023
DESCRIPTION:
URL:https://petanquelijnden.nl/event/korte-broeken-toernooi-dinsdag-20-juni-2023/
LOCATION:Petanque Lijnden\, Schipholweg 649\, Lijnden\, 1175 KR\, Nederland
CATEGORIES:Club wedstrijden
END:VEVENT
BEGIN:VEVENT
DTSTART;TZID=Europe/Helsinki:20230516T184500
DTEND;TZID=Europe/Helsinki:20230516T223000
DTSTAMP:20260419T232125
CREATED:20230512T062316Z
LAST-MODIFIED:20230512T062339Z
UID:731-1684262700-1684276200@petanquelijnden.nl
SUMMARY:Hoog Laag Toernooi Dinsdagavond 16 mei 2023
DESCRIPTION:
URL:https://petanquelijnden.nl/event/hoog-laag-toernooi-dinsdagavond-16-mei-2023/
LOCATION:Petanque Lijnden\, Schipholweg 649\, Lijnden\, 1175 KR\, Nederland
CATEGORIES:Club wedstrijden
END:VEVENT
BEGIN:VEVENT
DTSTART;TZID=Europe/Helsinki:20230511T120000
DTEND;TZID=Europe/Helsinki:20230511T170000
DTSTAMP:20260419T232125
CREATED:20230428T121324Z
LAST-MODIFIED:20230428T121324Z
UID:707-1683806400-1683824400@petanquelijnden.nl
SUMMARY:Even een spelletje op donderdag 11 mei
DESCRIPTION:
URL:https://petanquelijnden.nl/event/even-een-spelletje-op-donderdag-11-mei/
LOCATION:Petanque Lijnden\, Schipholweg 649\, Lijnden\, 1175 KR\, Nederland
CATEGORIES:Club wedstrijden
END:VEVENT
BEGIN:VEVENT
DTSTART;TZID=Europe/Helsinki:20230427T123000
DTEND;TZID=Europe/Helsinki:20230427T170000
DTSTAMP:20260419T232125
CREATED:20230428T121911Z
LAST-MODIFIED:20230428T121911Z
UID:711-1682598600-1682614800@petanquelijnden.nl
SUMMARY:Koningsdag toernooi 2023
DESCRIPTION:
URL:https://petanquelijnden.nl/event/koningsdag-toernooi-2023/
LOCATION:Petanque Lijnden\, Schipholweg 649\, Lijnden\, 1175 KR\, Nederland
CATEGORIES:Club wedstrijden
END:VEVENT
BEGIN:VEVENT
DTSTART;TZID=Europe/Helsinki:20230408T113000
DTEND;TZID=Europe/Helsinki:20230408T170000
DTSTAMP:20260419T232125
CREATED:20230129T140233Z
LAST-MODIFIED:20230401T103807Z
UID:651-1680953400-1680973200@petanquelijnden.nl
SUMMARY:Paas Toernooi
DESCRIPTION:
URL:https://petanquelijnden.nl/event/paas-toernooi/
LOCATION:Petanque Lijnden\, Schipholweg 649\, Lijnden\, 1175 KR\, Nederland
CATEGORIES:Club wedstrijden
END:VEVENT
BEGIN:VEVENT
DTSTART;TZID=Europe/Helsinki:20230323T123000
DTEND;TZID=Europe/Helsinki:20230323T170000
DTSTAMP:20260419T232125
CREATED:20230129T135908Z
LAST-MODIFIED:20230202T105359Z
UID:646-1679574600-1679590800@petanquelijnden.nl
SUMMARY:Lente Toernooi
DESCRIPTION:
URL:https://petanquelijnden.nl/event/lente-toernooi/
LOCATION:Petanque Lijnden\, Schipholweg 649\, Lijnden\, 1175 KR\, Nederland
CATEGORIES:Club wedstrijden
END:VEVENT
BEGIN:VEVENT
DTSTART;TZID=Europe/Amsterdam:20230304T080000
DTEND;TZID=Europe/Amsterdam:20230304T170000
DTSTAMP:20260419T232125
CREATED:20230129T135514Z
LAST-MODIFIED:20230222T133622Z
UID:641-1677916800-1677949200@petanquelijnden.nl
SUMMARY:Koudehandentoernooi
DESCRIPTION:Verplaatst naar 4 maart
URL:https://petanquelijnden.nl/event/koudehandentoernooi/
LOCATION:Petanque Lijnden\, Schipholweg 649\, Lijnden\, 1175 KR\, Nederland
CATEGORIES:Club wedstrijden
END:VEVENT
END:VCALENDAR