BEGIN:VCALENDAR
VERSION:2.0
PRODID:-//Pétanque Lijnden - ECPv6.15.20//NONSGML v1.0//EN
CALSCALE:GREGORIAN
METHOD:PUBLISH
X-WR-CALNAME:Pétanque Lijnden
X-ORIGINAL-URL:https://petanquelijnden.nl
X-WR-CALDESC:Evenementen voor Pétanque Lijnden
REFRESH-INTERVAL;VALUE=DURATION:PT1H
X-Robots-Tag:noindex
X-PUBLISHED-TTL:PT1H
BEGIN:VTIMEZONE
TZID:Europe/Helsinki
BEGIN:DAYLIGHT
TZOFFSETFROM:+0200
TZOFFSETTO:+0300
TZNAME:EEST
DTSTART:20220327T010000
END:DAYLIGHT
BEGIN:STANDARD
TZOFFSETFROM:+0300
TZOFFSETTO:+0200
TZNAME:EET
DTSTART:20221030T010000
END:STANDARD
BEGIN:DAYLIGHT
TZOFFSETFROM:+0200
TZOFFSETTO:+0300
TZNAME:EEST
DTSTART:20230326T010000
END:DAYLIGHT
BEGIN:STANDARD
TZOFFSETFROM:+0300
TZOFFSETTO:+0200
TZNAME:EET
DTSTART:20231029T010000
END:STANDARD
BEGIN:DAYLIGHT
TZOFFSETFROM:+0200
TZOFFSETTO:+0300
TZNAME:EEST
DTSTART:20240331T010000
END:DAYLIGHT
BEGIN:STANDARD
TZOFFSETFROM:+0300
TZOFFSETTO:+0200
TZNAME:EET
DTSTART:20241027T010000
END:STANDARD
BEGIN:DAYLIGHT
TZOFFSETFROM:+0200
TZOFFSETTO:+0300
TZNAME:EEST
DTSTART:20250330T010000
END:DAYLIGHT
BEGIN:STANDARD
TZOFFSETFROM:+0300
TZOFFSETTO:+0200
TZNAME:EET
DTSTART:20251026T010000
END:STANDARD
END:VTIMEZONE
BEGIN:VEVENT
DTSTART;TZID=Europe/Helsinki:20240424T120000
DTEND;TZID=Europe/Helsinki:20240424T170000
DTSTAMP:20260420T090226
CREATED:20240415T164629Z
LAST-MODIFIED:20240415T164734Z
UID:1029-1713960000-1713978000@petanquelijnden.nl
SUMMARY:Jan van Stein Toernooi locatie ??
DESCRIPTION:
URL:https://petanquelijnden.nl/event/jan-van-stein-toernooi-locatie/
CATEGORIES:Jan van Stijntoernooi
END:VEVENT
BEGIN:VEVENT
DTSTART;TZID=Europe/Helsinki:20230628T120000
DTEND;TZID=Europe/Helsinki:20230628T170000
DTSTAMP:20260420T090226
CREATED:20230322T124754Z
LAST-MODIFIED:20230322T124808Z
UID:700-1687953600-1687971600@petanquelijnden.nl
SUMMARY:Jan van Stein Toernooi locatie JdB Zandvoort
DESCRIPTION:
URL:https://petanquelijnden.nl/event/jan-van-stein-toernooi-locatie-jdb-zandvoort/
LOCATION:JdB Zandvoort\, Thomsonstraat 3\, Zandvoort\, Nederland
CATEGORIES:Jan van Stijntoernooi
END:VEVENT
BEGIN:VEVENT
DTSTART;TZID=Europe/Helsinki:20230524T120000
DTEND;TZID=Europe/Helsinki:20230524T170000
DTSTAMP:20260420T090226
CREATED:20230322T122747Z
LAST-MODIFIED:20230516T141405Z
UID:682-1684929600-1684947600@petanquelijnden.nl
SUMMARY:Jan van Stein Toernooi JBV Hillegom
DESCRIPTION:
URL:https://petanquelijnden.nl/event/jan-van-stein-toernooi-locatie-van-den-endelaan-7-2182-es-hillegom/
LOCATION:JBH Hillegom\, Van Den Endelaan 7\, Hillegom\, Nederland
CATEGORIES:Jan van Stijntoernooi
END:VEVENT
BEGIN:VEVENT
DTSTART;TZID=Europe/Helsinki:20230426T120000
DTEND;TZID=Europe/Helsinki:20230426T170000
DTSTAMP:20260420T090226
CREATED:20230322T123604Z
LAST-MODIFIED:20230322T124228Z
UID:688-1682510400-1682528400@petanquelijnden.nl
SUMMARY:Jan van Stein Toernooi locatie Lijnden
DESCRIPTION:
URL:https://petanquelijnden.nl/event/jan-van-stein-toernooi-locatie-lijnden/
LOCATION:Petanque Lijnden\, Schipholweg 649\, Lijnden\, 1175 KR\, Nederland
CATEGORIES:Jan van Stijntoernooi
END:VEVENT
BEGIN:VEVENT
DTSTART;TZID=Europe/Helsinki:20230329T120000
DTEND;TZID=Europe/Helsinki:20230329T170000
DTSTAMP:20260420T090226
CREATED:20230129T140132Z
LAST-MODIFIED:20230322T123234Z
UID:649-1680091200-1680109200@petanquelijnden.nl
SUMMARY:Jan van Stein Toernooi locatie Spaanse Ruiter
DESCRIPTION:
URL:https://petanquelijnden.nl/event/jan-van-stein-toernooi-locatie-n-n-b-2/
LOCATION:De Spaanse Ruiter\, Wikkestraat 45\, Nieuw-Vennep\, Nederland
CATEGORIES:Jan van Stijntoernooi
END:VEVENT
BEGIN:VEVENT
DTSTART;TZID=Europe/Helsinki:20230222T113000
DTEND;TZID=Europe/Helsinki:20230222T170000
DTSTAMP:20260420T090226
CREATED:20230129T134637Z
LAST-MODIFIED:20230129T135121Z
UID:638-1677065400-1677085200@petanquelijnden.nl
SUMMARY:Jan van Stein Toernooi  locatie n.n.b
DESCRIPTION:
URL:https://petanquelijnden.nl/event/jan-van-stein-toernooi-locatie-n-n-b/
CATEGORIES:Jan van Stijntoernooi
END:VEVENT
END:VCALENDAR