BEGIN:VCALENDAR
VERSION:2.0
PRODID:-//Pétanque Lijnden - ECPv6.15.20//NONSGML v1.0//EN
CALSCALE:GREGORIAN
METHOD:PUBLISH
X-WR-CALNAME:Pétanque Lijnden
X-ORIGINAL-URL:https://petanquelijnden.nl
X-WR-CALDESC:Evenementen voor Pétanque Lijnden
REFRESH-INTERVAL;VALUE=DURATION:PT1H
X-Robots-Tag:noindex
X-PUBLISHED-TTL:PT1H
BEGIN:VTIMEZONE
TZID:Europe/Amsterdam
BEGIN:DAYLIGHT
TZOFFSETFROM:+0100
TZOFFSETTO:+0200
TZNAME:CEST
DTSTART:20230326T010000
END:DAYLIGHT
BEGIN:STANDARD
TZOFFSETFROM:+0200
TZOFFSETTO:+0100
TZNAME:CET
DTSTART:20231029T010000
END:STANDARD
BEGIN:DAYLIGHT
TZOFFSETFROM:+0100
TZOFFSETTO:+0200
TZNAME:CEST
DTSTART:20240331T010000
END:DAYLIGHT
BEGIN:STANDARD
TZOFFSETFROM:+0200
TZOFFSETTO:+0100
TZNAME:CET
DTSTART:20241027T010000
END:STANDARD
BEGIN:DAYLIGHT
TZOFFSETFROM:+0100
TZOFFSETTO:+0200
TZNAME:CEST
DTSTART:20250330T010000
END:DAYLIGHT
BEGIN:STANDARD
TZOFFSETFROM:+0200
TZOFFSETTO:+0100
TZNAME:CET
DTSTART:20251026T010000
END:STANDARD
END:VTIMEZONE
BEGIN:VTIMEZONE
TZID:Europe/Helsinki
BEGIN:DAYLIGHT
TZOFFSETFROM:+0200
TZOFFSETTO:+0300
TZNAME:EEST
DTSTART:20230326T010000
END:DAYLIGHT
BEGIN:STANDARD
TZOFFSETFROM:+0300
TZOFFSETTO:+0200
TZNAME:EET
DTSTART:20231029T010000
END:STANDARD
BEGIN:DAYLIGHT
TZOFFSETFROM:+0200
TZOFFSETTO:+0300
TZNAME:EEST
DTSTART:20240331T010000
END:DAYLIGHT
BEGIN:STANDARD
TZOFFSETFROM:+0300
TZOFFSETTO:+0200
TZNAME:EET
DTSTART:20241027T010000
END:STANDARD
BEGIN:DAYLIGHT
TZOFFSETFROM:+0200
TZOFFSETTO:+0300
TZNAME:EEST
DTSTART:20250330T010000
END:DAYLIGHT
BEGIN:STANDARD
TZOFFSETFROM:+0300
TZOFFSETTO:+0200
TZNAME:EET
DTSTART:20251026T010000
END:STANDARD
END:VTIMEZONE
BEGIN:VEVENT
DTSTART;TZID=Europe/Amsterdam:20241005T120000
DTEND;TZID=Europe/Amsterdam:20241005T170000
DTSTAMP:20260421T163720
CREATED:20240925T060033Z
LAST-MODIFIED:20240925T060100Z
UID:1149-1728129600-1728147600@petanquelijnden.nl
SUMMARY:Team 1 NPC THUIS tegen De Gooiers 4
DESCRIPTION:
URL:https://petanquelijnden.nl/event/team-1-npc-thuis-tegen-de-gooiers-4/
CATEGORIES:NPC
END:VEVENT
BEGIN:VEVENT
DTSTART;TZID=Europe/Amsterdam:20241005T120000
DTEND;TZID=Europe/Amsterdam:20241005T170000
DTSTAMP:20260421T163720
CREATED:20240925T053139Z
LAST-MODIFIED:20240925T053139Z
UID:1119-1728129600-1728147600@petanquelijnden.nl
SUMMARY:NPC Team 2 UIT tegen PV Gouda 6
DESCRIPTION:
URL:https://petanquelijnden.nl/event/npc-team-2-uit-tegen-pv-gouda-6/
CATEGORIES:NPC
END:VEVENT
BEGIN:VEVENT
DTSTART;TZID=Europe/Amsterdam:20240928T093000
DTEND;TZID=Europe/Amsterdam:20240928T170000
DTSTAMP:20260421T163720
CREATED:20240807T052338Z
LAST-MODIFIED:20240807T052529Z
UID:1103-1727515800-1727542800@petanquelijnden.nl
SUMMARY:Kool Lijnden Toernooi 28 september 2024
DESCRIPTION:
URL:https://petanquelijnden.nl/event/kool-lijnden-toernooi-28-september-2024/
LOCATION:Petanque Lijnden\, Schipholweg 649\, Lijnden\, 1175 KR\, Nederland
CATEGORIES:Open toernooien
END:VEVENT
BEGIN:VEVENT
DTSTART;TZID=Europe/Amsterdam:20240922T120000
DTEND;TZID=Europe/Amsterdam:20240922T170000
DTSTAMP:20260421T163720
CREATED:20240925T055931Z
LAST-MODIFIED:20240925T055931Z
UID:1147-1727006400-1727024400@petanquelijnden.nl
SUMMARY:Team 1 NPC UIT tegen De Boel de Boule 3
DESCRIPTION:
URL:https://petanquelijnden.nl/event/team-1-npc-uit-tegen-de-boel-de-boule-3/
CATEGORIES:NPC
END:VEVENT
BEGIN:VEVENT
DTSTART;TZID=Europe/Amsterdam:20240921T120000
DTEND;TZID=Europe/Amsterdam:20240921T170000
DTSTAMP:20260421T163720
CREATED:20240925T053025Z
LAST-MODIFIED:20240925T053056Z
UID:1116-1726920000-1726938000@petanquelijnden.nl
SUMMARY:NPC Team 2  - THUIS  tegen Jeu de Boules Hillegom 2
DESCRIPTION:
URL:https://petanquelijnden.nl/event/npc-team-2-thuis-tegen-jeu-de-boules-hillegom-2/
CATEGORIES:NPC
END:VEVENT
BEGIN:VEVENT
DTSTART;TZID=Europe/Amsterdam:20240918T110000
DTEND;TZID=Europe/Amsterdam:20240918T170000
DTSTAMP:20260421T163720
CREATED:20240807T051824Z
LAST-MODIFIED:20240807T051833Z
UID:1094-1726657200-1726678800@petanquelijnden.nl
SUMMARY:Tussendoortje 18 September
DESCRIPTION:
URL:https://petanquelijnden.nl/event/tussendoortje-september/
LOCATION:Petanque Lijnden\, Schipholweg 649\, Lijnden\, 1175 KR\, Nederland
CATEGORIES:Open toernooien
END:VEVENT
BEGIN:VEVENT
DTSTART;TZID=Europe/Amsterdam:20240911T120000
DTEND;TZID=Europe/Amsterdam:20240911T170000
DTSTAMP:20260421T163720
CREATED:20240902T081922Z
LAST-MODIFIED:20240902T081932Z
UID:1111-1726056000-1726074000@petanquelijnden.nl
SUMMARY:Clinic door Bert van Dijk
DESCRIPTION:
URL:https://petanquelijnden.nl/event/clinic-met-bert-van-dijk/
LOCATION:Petanque Lijnden\, Schipholweg 649\, Lijnden\, 1175 KR\, Nederland
CATEGORIES:Evenement Vluchthaven
END:VEVENT
BEGIN:VEVENT
DTSTART;TZID=Europe/Amsterdam:20240825T080000
DTEND;TZID=Europe/Amsterdam:20240825T170000
DTSTAMP:20260421T163720
CREATED:20240510T155742Z
LAST-MODIFIED:20240510T155742Z
UID:1067-1724572800-1724605200@petanquelijnden.nl
SUMMARY:4 Buren Toernooi 2024 Dag 4 Petanque Lijnden
DESCRIPTION:
URL:https://petanquelijnden.nl/event/4-buren-toernooi-2024-dag-4-petanque-lijnden/
LOCATION:Petanque Lijnden\, Schipholweg 649\, Lijnden\, 1175 KR\, Nederland
CATEGORIES:4 Buren Toernooi
END:VEVENT
BEGIN:VEVENT
DTSTART;TZID=Europe/Amsterdam:20240811T113000
DTEND;TZID=Europe/Amsterdam:20240811T170000
DTSTAMP:20260421T163720
CREATED:20240510T155603Z
LAST-MODIFIED:20240510T155603Z
UID:1065-1723375800-1723395600@petanquelijnden.nl
SUMMARY:4 Buren Toernooi 2024 Dag 3 JBV Bulderbaan
DESCRIPTION:
URL:https://petanquelijnden.nl/event/4-buren-toernooi-2024-dag-3-jbv-bulderbaan/
LOCATION:JBV Bulderbaan\, Broersepark\, Amstelveen\, Nederland
CATEGORIES:4 Buren Toernooi
END:VEVENT
BEGIN:VEVENT
DTSTART;TZID=Europe/Amsterdam:20240727T123000
DTEND;TZID=Europe/Amsterdam:20240727T170000
DTSTAMP:20260421T163720
CREATED:20240621T062050Z
LAST-MODIFIED:20240621T062050Z
UID:1080-1722083400-1722099600@petanquelijnden.nl
SUMMARY:BBQ toernooi 2024
DESCRIPTION:
URL:https://petanquelijnden.nl/event/bbq-toernooi-2024/
LOCATION:Petanque Lijnden\, Schipholweg 649\, Lijnden\, 1175 KR\, Nederland
CATEGORIES:Club wedstrijden
END:VEVENT
BEGIN:VEVENT
DTSTART;TZID=Europe/Amsterdam:20240714T113000
DTEND;TZID=Europe/Amsterdam:20240714T170000
DTSTAMP:20260421T163720
CREATED:20240510T155412Z
LAST-MODIFIED:20240510T155431Z
UID:1063-1720956600-1720976400@petanquelijnden.nl
SUMMARY:4 Buren Toernooi 2024 Dag 2 Les Bohémiens de Pétanque
DESCRIPTION:
URL:https://petanquelijnden.nl/event/4-buren-toernooi-2024-dag-2-les-bohemiens-de-petanque/
LOCATION:Les Bohémiens\, Buziaustraat 32\, Amsterdam\, Nederland
CATEGORIES:4 Buren Toernooi
END:VEVENT
BEGIN:VEVENT
DTSTART;TZID=Europe/Amsterdam:20240706T123000
DTEND;TZID=Europe/Amsterdam:20240706T170000
DTSTAMP:20260421T163720
CREATED:20240703T141340Z
LAST-MODIFIED:20240703T141340Z
UID:1087-1720269000-1720285200@petanquelijnden.nl
SUMMARY:Oranjetoernooi 6 juli  2024
DESCRIPTION:
URL:https://petanquelijnden.nl/event/oranjetoernooi-6-juli-2024/
LOCATION:Petanque Lijnden\, Schipholweg 649\, Lijnden\, 1175 KR\, Nederland
CATEGORIES:Club wedstrijden
END:VEVENT
BEGIN:VEVENT
DTSTART;TZID=Europe/Amsterdam:20240630T110000
DTEND;TZID=Europe/Amsterdam:20240630T170000
DTSTAMP:20260421T163720
CREATED:20240621T061656Z
LAST-MODIFIED:20240621T061656Z
UID:1078-1719745200-1719766800@petanquelijnden.nl
SUMMARY:Club ontmoeting met Abcoude\, in Abcoude
DESCRIPTION:
URL:https://petanquelijnden.nl/event/club-ontmoeting-met-abcoude-in-abcoude/
LOCATION:Jeu De Boulesclub Abcoude\, Molenweg 19-B\, Abcoude\, 1391CH\, Nederland
CATEGORIES:Club ontmoetingen
END:VEVENT
BEGIN:VEVENT
DTSTART;TZID=Europe/Amsterdam:20240615T120000
DTEND;TZID=Europe/Amsterdam:20240615T170000
DTSTAMP:20260421T163720
CREATED:20240510T160324Z
LAST-MODIFIED:20240510T160412Z
UID:1069-1718452800-1718470800@petanquelijnden.nl
SUMMARY:Zomer toernooi  15 juni 2024
DESCRIPTION:
URL:https://petanquelijnden.nl/event/zomer-toernooi-2024/
LOCATION:Petanque Lijnden\, Schipholweg 649\, Lijnden\, 1175 KR\, Nederland
CATEGORIES:Club wedstrijden
END:VEVENT
BEGIN:VEVENT
DTSTART;TZID=Europe/Amsterdam:20240609T113000
DTEND;TZID=Europe/Amsterdam:20240609T170000
DTSTAMP:20260421T163720
CREATED:20240510T155137Z
LAST-MODIFIED:20240510T155138Z
UID:1060-1717932600-1717952400@petanquelijnden.nl
SUMMARY:4 Buren Toernooi 2024 Dag 1 Badhoevedorp
DESCRIPTION:
URL:https://petanquelijnden.nl/event/4-buren-toernooi-2024-dag-1-badhoevedorp/
LOCATION:Sporting Badhoevedorp\, Snelliuslaan 37\, Badhoevedorp\, Nederland
CATEGORIES:4 Buren Toernooi
END:VEVENT
BEGIN:VEVENT
DTSTART;TZID=Europe/Amsterdam:20240522T110000
DTEND;TZID=Europe/Amsterdam:20240522T170000
DTSTAMP:20260421T163720
CREATED:20240415T170952Z
LAST-MODIFIED:20240415T171509Z
UID:1042-1716375600-1716397200@petanquelijnden.nl
SUMMARY:Tussendoortje Mei
DESCRIPTION:
URL:https://petanquelijnden.nl/event/7detussendoor-toernooi/
LOCATION:Petanque Lijnden\, Schipholweg 649\, Lijnden\, 1175 KR\, Nederland
CATEGORIES:Open toernooien
END:VEVENT
BEGIN:VEVENT
DTSTART;TZID=Europe/Amsterdam:20240511T120000
DTEND;TZID=Europe/Amsterdam:20240511T170000
DTSTAMP:20260421T163720
CREATED:20240426T095559Z
LAST-MODIFIED:20240426T095559Z
UID:1049-1715428800-1715446800@petanquelijnden.nl
SUMMARY:Verrasingstoernooi 11 mei 2024
DESCRIPTION:
URL:https://petanquelijnden.nl/event/verrasingstoernooi-11-mei-2024/
LOCATION:Petanque Lijnden\, Schipholweg 649\, Lijnden\, 1175 KR\, Nederland
CATEGORIES:Club wedstrijden
END:VEVENT
BEGIN:VEVENT
DTSTART;TZID=Europe/Helsinki:20240427T123000
DTEND;TZID=Europe/Helsinki:20240427T170000
DTSTAMP:20260421T163720
CREATED:20240415T170049Z
LAST-MODIFIED:20240415T170049Z
UID:1035-1714221000-1714237200@petanquelijnden.nl
SUMMARY:Koningsdag toernooi
DESCRIPTION:
URL:https://petanquelijnden.nl/event/koningsdag-toernooi/
LOCATION:Petanque Lijnden\, Schipholweg 649\, Lijnden\, 1175 KR\, Nederland
CATEGORIES:Club wedstrijden
END:VEVENT
BEGIN:VEVENT
DTSTART;TZID=Europe/Amsterdam:20240427T120000
DTEND;TZID=Europe/Amsterdam:20240427T170000
DTSTAMP:20260421T163720
CREATED:20240426T095006Z
LAST-MODIFIED:20240426T095006Z
UID:1046-1714219200-1714237200@petanquelijnden.nl
SUMMARY:Koningsdag Toernooi 2024
DESCRIPTION:
URL:https://petanquelijnden.nl/event/koningsdag-toernooi-2024/
LOCATION:Petanque Lijnden\, Schipholweg 649\, Lijnden\, 1175 KR\, Nederland
CATEGORIES:Club wedstrijden
END:VEVENT
BEGIN:VEVENT
DTSTART;TZID=Europe/Helsinki:20240424T120000
DTEND;TZID=Europe/Helsinki:20240424T170000
DTSTAMP:20260421T163720
CREATED:20240415T164629Z
LAST-MODIFIED:20240415T164734Z
UID:1029-1713960000-1713978000@petanquelijnden.nl
SUMMARY:Jan van Stein Toernooi locatie ??
DESCRIPTION:
URL:https://petanquelijnden.nl/event/jan-van-stein-toernooi-locatie/
CATEGORIES:Jan van Stijntoernooi
END:VEVENT
BEGIN:VEVENT
DTSTART;TZID=Europe/Helsinki:20240421T100000
DTEND;TZID=Europe/Helsinki:20240421T170000
DTSTAMP:20260421T163720
CREATED:20240415T165646Z
LAST-MODIFIED:20240415T165646Z
UID:1031-1713693600-1713718800@petanquelijnden.nl
SUMMARY:Tulpen toernooi Les Bohémiens de Pétanque
DESCRIPTION:
URL:https://petanquelijnden.nl/event/tulpen-toernooi-les-bohemiens-de-petanque/
LOCATION:Les Bohémiens\, Buziaustraat 32\, Amsterdam\, Nederland
CATEGORIES:Open toernooien
END:VEVENT
BEGIN:VEVENT
DTSTART;TZID=Europe/Helsinki:20240420T120000
DTEND;TZID=Europe/Helsinki:20240420T170000
DTSTAMP:20260421T163720
CREATED:20240415T164229Z
LAST-MODIFIED:20240415T164229Z
UID:1025-1713614400-1713632400@petanquelijnden.nl
SUMMARY:Bad en Body toernooi 20 April 2024
DESCRIPTION:
URL:https://petanquelijnden.nl/event/bad-en-body-toernooi-20-april-2024/
LOCATION:Petanque Lijnden\, Schipholweg 649\, Lijnden\, 1175 KR\, Nederland
CATEGORIES:Club wedstrijden
END:VEVENT
BEGIN:VEVENT
DTSTART;TZID=Europe/Helsinki:20240410T110000
DTEND;TZID=Europe/Helsinki:20240410T170000
DTSTAMP:20260421T163720
CREATED:20231209T105600Z
LAST-MODIFIED:20240321T083445Z
UID:919-1712746800-1712768400@petanquelijnden.nl
SUMMARY:Tussendoortje 10 april 2024
DESCRIPTION:https://www.ontip.nl/petanquelijnden/Inschrijfform.php?toernooi=TUSSENDOORTJE_APRIL
URL:https://petanquelijnden.nl/event/tussendoortje-24-april-2024/
LOCATION:Petanque Lijnden\, Schipholweg 649\, Lijnden\, 1175 KR\, Nederland
CATEGORIES:Open toernooien
END:VEVENT
BEGIN:VEVENT
DTSTART;TZID=Europe/Helsinki:20240409T190000
DTEND;TZID=Europe/Helsinki:20240409T223000
DTSTAMP:20260421T163720
CREATED:20231103T170342Z
LAST-MODIFIED:20231227T075511Z
UID:895-1712689200-1712701800@petanquelijnden.nl
SUMMARY:Clubkampioenschappen Dag 4 (laatste)
DESCRIPTION:
URL:https://petanquelijnden.nl/event/clubkampioenschappen-dag-4-laatste/
LOCATION:Petanque Lijnden\, Schipholweg 649\, Lijnden\, 1175 KR\, Nederland
CATEGORIES:Club kampioenschappen
END:VEVENT
BEGIN:VEVENT
DTSTART;TZID=Europe/Helsinki:20240323T120000
DTEND;TZID=Europe/Helsinki:20240323T170000
DTSTAMP:20260421T163720
CREATED:20230919T105203Z
LAST-MODIFIED:20230919T105203Z
UID:861-1711195200-1711213200@petanquelijnden.nl
SUMMARY:NPC Seizoen ’23-’24 Dag 14
DESCRIPTION:
URL:https://petanquelijnden.nl/event/npc-seizoen-23-24-dag-14/
LOCATION:Petanque Lijnden\, Schipholweg 649\, Lijnden\, 1175 KR\, Nederland
CATEGORIES:NPC
END:VEVENT
BEGIN:VEVENT
DTSTART;TZID=Europe/Helsinki:20240316T080000
DTEND;TZID=Europe/Helsinki:20240316T170000
DTSTAMP:20260421T163720
CREATED:20230919T105029Z
LAST-MODIFIED:20230919T105029Z
UID:859-1710576000-1710608400@petanquelijnden.nl
SUMMARY:NPC Seizoen ’23-’24 Dag 13 zijn we VRIJ dus geen NPC voor ons
DESCRIPTION:
URL:https://petanquelijnden.nl/event/npc-seizoen-23-24-dag-13-zijn-we-vrij-dus-geen-npc-voor-ons/
CATEGORIES:NPC
END:VEVENT
BEGIN:VEVENT
DTSTART;TZID=Europe/Helsinki:20240312T190000
DTEND;TZID=Europe/Helsinki:20240312T223000
DTSTAMP:20260421T163720
CREATED:20231103T170249Z
LAST-MODIFIED:20231227T075539Z
UID:893-1710270000-1710282600@petanquelijnden.nl
SUMMARY:Clubkampioenschappen Dag 3
DESCRIPTION:
URL:https://petanquelijnden.nl/event/clubkampioenschappen-dag-3/
LOCATION:Petanque Lijnden\, Schipholweg 649\, Lijnden\, 1175 KR\, Nederland
CATEGORIES:Club kampioenschappen
END:VEVENT
BEGIN:VEVENT
DTSTART;TZID=Europe/Helsinki:20240302T080000
DTEND;TZID=Europe/Helsinki:20240302T170000
DTSTAMP:20260421T163720
CREATED:20230919T104938Z
LAST-MODIFIED:20230919T104938Z
UID:857-1709366400-1709398800@petanquelijnden.nl
SUMMARY:NPC Seizoen ’23-’24 Dag 12
DESCRIPTION:
URL:https://petanquelijnden.nl/event/npc-seizoen-23-24-dag-12/
LOCATION:Petanque Lijnden\, Schipholweg 649\, Lijnden\, 1175 KR\, Nederland
CATEGORIES:NPC
END:VEVENT
BEGIN:VEVENT
DTSTART;TZID=Europe/Helsinki:20240221T110000
DTEND;TZID=Europe/Helsinki:20240221T170000
DTSTAMP:20260421T163720
CREATED:20231209T110508Z
LAST-MODIFIED:20231209T110508Z
UID:927-1708513200-1708534800@petanquelijnden.nl
SUMMARY:Tussendoortje 21 februari 2024
DESCRIPTION:https://www.ontip.nl/petanquelijnden/Inschrijfform.php?toernooi=TUSSENDOORTJE
URL:https://petanquelijnden.nl/event/tussendoortje-21-februari-2024/
LOCATION:Petanque Lijnden\, Schipholweg 649\, Lijnden\, 1175 KR\, Nederland
CATEGORIES:Open toernooien
END:VEVENT
BEGIN:VEVENT
DTSTART;TZID=Europe/Helsinki:20240217T120000
DTEND;TZID=Europe/Helsinki:20240217T170000
DTSTAMP:20260421T163720
CREATED:20230919T104844Z
LAST-MODIFIED:20230919T104844Z
UID:855-1708171200-1708189200@petanquelijnden.nl
SUMMARY:NPC Seizoen ’23-’24 Dag 11
DESCRIPTION:
URL:https://petanquelijnden.nl/event/npc-seizoen-23-24-dag-11/
LOCATION:Purmer Boules\, Flevostraat 253\, Purmerend\, Nederland
CATEGORIES:NPC
END:VEVENT
END:VCALENDAR