BEGIN:VCALENDAR
VERSION:2.0
PRODID:-//Pétanque Lijnden - ECPv6.15.20//NONSGML v1.0//EN
CALSCALE:GREGORIAN
METHOD:PUBLISH
X-WR-CALNAME:Pétanque Lijnden
X-ORIGINAL-URL:https://petanquelijnden.nl
X-WR-CALDESC:Evenementen voor Pétanque Lijnden
REFRESH-INTERVAL;VALUE=DURATION:PT1H
X-Robots-Tag:noindex
X-PUBLISHED-TTL:PT1H
BEGIN:VTIMEZONE
TZID:Europe/Helsinki
BEGIN:DAYLIGHT
TZOFFSETFROM:+0200
TZOFFSETTO:+0300
TZNAME:EEST
DTSTART:20220327T010000
END:DAYLIGHT
BEGIN:STANDARD
TZOFFSETFROM:+0300
TZOFFSETTO:+0200
TZNAME:EET
DTSTART:20221030T010000
END:STANDARD
BEGIN:DAYLIGHT
TZOFFSETFROM:+0200
TZOFFSETTO:+0300
TZNAME:EEST
DTSTART:20230326T010000
END:DAYLIGHT
BEGIN:STANDARD
TZOFFSETFROM:+0300
TZOFFSETTO:+0200
TZNAME:EET
DTSTART:20231029T010000
END:STANDARD
BEGIN:DAYLIGHT
TZOFFSETFROM:+0200
TZOFFSETTO:+0300
TZNAME:EEST
DTSTART:20240331T010000
END:DAYLIGHT
BEGIN:STANDARD
TZOFFSETFROM:+0300
TZOFFSETTO:+0200
TZNAME:EET
DTSTART:20241027T010000
END:STANDARD
BEGIN:DAYLIGHT
TZOFFSETFROM:+0200
TZOFFSETTO:+0300
TZNAME:EEST
DTSTART:20250330T010000
END:DAYLIGHT
BEGIN:STANDARD
TZOFFSETFROM:+0300
TZOFFSETTO:+0200
TZNAME:EET
DTSTART:20251026T010000
END:STANDARD
END:VTIMEZONE
BEGIN:VEVENT
DTSTART;TZID=Europe/Helsinki:20240323T120000
DTEND;TZID=Europe/Helsinki:20240323T170000
DTSTAMP:20260421T203328
CREATED:20230919T105203Z
LAST-MODIFIED:20230919T105203Z
UID:861-1711195200-1711213200@petanquelijnden.nl
SUMMARY:NPC Seizoen ’23-’24 Dag 14
DESCRIPTION:
URL:https://petanquelijnden.nl/event/npc-seizoen-23-24-dag-14/
LOCATION:Petanque Lijnden\, Schipholweg 649\, Lijnden\, 1175 KR\, Nederland
CATEGORIES:NPC
END:VEVENT
BEGIN:VEVENT
DTSTART;TZID=Europe/Helsinki:20240316T080000
DTEND;TZID=Europe/Helsinki:20240316T170000
DTSTAMP:20260421T203328
CREATED:20230919T105029Z
LAST-MODIFIED:20230919T105029Z
UID:859-1710576000-1710608400@petanquelijnden.nl
SUMMARY:NPC Seizoen ’23-’24 Dag 13 zijn we VRIJ dus geen NPC voor ons
DESCRIPTION:
URL:https://petanquelijnden.nl/event/npc-seizoen-23-24-dag-13-zijn-we-vrij-dus-geen-npc-voor-ons/
CATEGORIES:NPC
END:VEVENT
BEGIN:VEVENT
DTSTART;TZID=Europe/Helsinki:20240312T190000
DTEND;TZID=Europe/Helsinki:20240312T223000
DTSTAMP:20260421T203328
CREATED:20231103T170249Z
LAST-MODIFIED:20231227T075539Z
UID:893-1710270000-1710282600@petanquelijnden.nl
SUMMARY:Clubkampioenschappen Dag 3
DESCRIPTION:
URL:https://petanquelijnden.nl/event/clubkampioenschappen-dag-3/
LOCATION:Petanque Lijnden\, Schipholweg 649\, Lijnden\, 1175 KR\, Nederland
CATEGORIES:Club kampioenschappen
END:VEVENT
BEGIN:VEVENT
DTSTART;TZID=Europe/Helsinki:20240302T080000
DTEND;TZID=Europe/Helsinki:20240302T170000
DTSTAMP:20260421T203328
CREATED:20230919T104938Z
LAST-MODIFIED:20230919T104938Z
UID:857-1709366400-1709398800@petanquelijnden.nl
SUMMARY:NPC Seizoen ’23-’24 Dag 12
DESCRIPTION:
URL:https://petanquelijnden.nl/event/npc-seizoen-23-24-dag-12/
LOCATION:Petanque Lijnden\, Schipholweg 649\, Lijnden\, 1175 KR\, Nederland
CATEGORIES:NPC
END:VEVENT
BEGIN:VEVENT
DTSTART;TZID=Europe/Helsinki:20240221T110000
DTEND;TZID=Europe/Helsinki:20240221T170000
DTSTAMP:20260421T203328
CREATED:20231209T110508Z
LAST-MODIFIED:20231209T110508Z
UID:927-1708513200-1708534800@petanquelijnden.nl
SUMMARY:Tussendoortje 21 februari 2024
DESCRIPTION:https://www.ontip.nl/petanquelijnden/Inschrijfform.php?toernooi=TUSSENDOORTJE
URL:https://petanquelijnden.nl/event/tussendoortje-21-februari-2024/
LOCATION:Petanque Lijnden\, Schipholweg 649\, Lijnden\, 1175 KR\, Nederland
CATEGORIES:Open toernooien
END:VEVENT
BEGIN:VEVENT
DTSTART;TZID=Europe/Helsinki:20240217T120000
DTEND;TZID=Europe/Helsinki:20240217T170000
DTSTAMP:20260421T203328
CREATED:20230919T104844Z
LAST-MODIFIED:20230919T104844Z
UID:855-1708171200-1708189200@petanquelijnden.nl
SUMMARY:NPC Seizoen ’23-’24 Dag 11
DESCRIPTION:
URL:https://petanquelijnden.nl/event/npc-seizoen-23-24-dag-11/
LOCATION:Purmer Boules\, Flevostraat 253\, Purmerend\, Nederland
CATEGORIES:NPC
END:VEVENT
BEGIN:VEVENT
DTSTART;TZID=Europe/Helsinki:20240213T190000
DTEND;TZID=Europe/Helsinki:20240213T223000
DTSTAMP:20260421T203328
CREATED:20231103T170205Z
LAST-MODIFIED:20231227T075607Z
UID:891-1707850800-1707863400@petanquelijnden.nl
SUMMARY:Clubkampioenschappen Dag 2
DESCRIPTION:
URL:https://petanquelijnden.nl/event/clubkampioenschappen-dag-2/
LOCATION:Petanque Lijnden\, Schipholweg 649\, Lijnden\, 1175 KR\, Nederland
CATEGORIES:Club kampioenschappen
END:VEVENT
BEGIN:VEVENT
DTSTART;TZID=Europe/Helsinki:20240203T120000
DTEND;TZID=Europe/Helsinki:20240203T170000
DTSTAMP:20260421T203328
CREATED:20230919T104742Z
LAST-MODIFIED:20230919T104742Z
UID:852-1706961600-1706979600@petanquelijnden.nl
SUMMARY:NPC Seizoen ’23-’24 Dag 10
DESCRIPTION:
URL:https://petanquelijnden.nl/event/npc-seizoen-23-24-dag-10/
LOCATION:Purmer Boules\, Flevostraat 253\, Purmerend\, Nederland
CATEGORIES:NPC
END:VEVENT
BEGIN:VEVENT
DTSTART;TZID=Europe/Helsinki:20240127T120000
DTEND;TZID=Europe/Helsinki:20240127T170000
DTSTAMP:20260421T203328
CREATED:20230919T104428Z
LAST-MODIFIED:20230919T104428Z
UID:849-1706356800-1706374800@petanquelijnden.nl
SUMMARY:NPC Seizoen ’23-’24 Dag 9
DESCRIPTION:
URL:https://petanquelijnden.nl/event/npc-seizoen-23-24-dag-9/
LOCATION:Petanque Lijnden\, Schipholweg 649\, Lijnden\, 1175 KR\, Nederland
CATEGORIES:NPC
END:VEVENT
BEGIN:VEVENT
DTSTART;TZID=Europe/Helsinki:20240120T120000
DTEND;TZID=Europe/Helsinki:20240120T170000
DTSTAMP:20260421T203328
CREATED:20231211T190953Z
LAST-MODIFIED:20231221T082737Z
UID:939-1705752000-1705770000@petanquelijnden.nl
SUMMARY:Man & Vrouw Toernooi
DESCRIPTION:
URL:https://petanquelijnden.nl/event/man-vrouw-toernooi/
LOCATION:Petanque Lijnden\, Schipholweg 649\, Lijnden\, 1175 KR\, Nederland
CATEGORIES:Club kampioenschappen
END:VEVENT
BEGIN:VEVENT
DTSTART;TZID=Europe/Helsinki:20240117T110000
DTEND;TZID=Europe/Helsinki:20240117T170000
DTSTAMP:20260421T203328
CREATED:20231209T110647Z
LAST-MODIFIED:20231209T110647Z
UID:930-1705489200-1705510800@petanquelijnden.nl
SUMMARY:Tussendoortje 17 januari 2024
DESCRIPTION:https://www.ontip.nl/petanquelijnden/Inschrijfform.php?toernooi=TUSSENDOORTJE_JANUARI
URL:https://petanquelijnden.nl/event/tussendoortje-17-januari-2024/
LOCATION:Petanque Lijnden\, Schipholweg 649\, Lijnden\, 1175 KR\, Nederland
CATEGORIES:Open toernooien
END:VEVENT
BEGIN:VEVENT
DTSTART;TZID=Europe/Helsinki:20240113T120000
DTEND;TZID=Europe/Helsinki:20240113T170000
DTSTAMP:20260421T203328
CREATED:20230919T104310Z
LAST-MODIFIED:20230919T104310Z
UID:846-1705147200-1705165200@petanquelijnden.nl
SUMMARY:NPC Seizoen ’23-’24 Dag 8
DESCRIPTION:
URL:https://petanquelijnden.nl/event/npc-seizoen-23-24-dag-8/
LOCATION:Boulegoed\, Jetting 5\, Harlingen\, 8862 AK\, Nederland
CATEGORIES:NPC
END:VEVENT
BEGIN:VEVENT
DTSTART;TZID=Europe/Helsinki:20240109T190000
DTEND;TZID=Europe/Helsinki:20240109T223000
DTSTAMP:20260421T203328
CREATED:20231103T170123Z
LAST-MODIFIED:20231227T075646Z
UID:889-1704826800-1704839400@petanquelijnden.nl
SUMMARY:Clubkampioenschappen Dag 1
DESCRIPTION:
URL:https://petanquelijnden.nl/event/clubkampioenschappen-dag-1/
LOCATION:Petanque Lijnden\, Schipholweg 649\, Lijnden\, 1175 KR\, Nederland
CATEGORIES:Club kampioenschappen
END:VEVENT
BEGIN:VEVENT
DTSTART;TZID=Europe/Helsinki:20240106T120000
DTEND;TZID=Europe/Helsinki:20240106T170000
DTSTAMP:20260421T203328
CREATED:20231211T190454Z
LAST-MODIFIED:20231221T082556Z
UID:933-1704542400-1704560400@petanquelijnden.nl
SUMMARY:Nieuwjaars Toernooi 2024
DESCRIPTION:
URL:https://petanquelijnden.nl/event/nieuwjaars-toernooi-2024/
LOCATION:Petanque Lijnden\, Schipholweg 649\, Lijnden\, 1175 KR\, Nederland
CATEGORIES:Club kampioenschappen
END:VEVENT
BEGIN:VEVENT
DTSTART;TZID=Europe/Helsinki:20231228T113000
DTEND;TZID=Europe/Helsinki:20231228T170000
DTSTAMP:20260421T203328
CREATED:20231030T122417Z
LAST-MODIFIED:20231215T123647Z
UID:886-1703763000-1703782800@petanquelijnden.nl
SUMMARY:Oliebollen Toernooi
DESCRIPTION:
URL:https://petanquelijnden.nl/event/oliebollen-toernooi/
LOCATION:Petanque Lijnden\, Schipholweg 649\, Lijnden\, 1175 KR\, Nederland
CATEGORIES:Club kampioenschappen
END:VEVENT
BEGIN:VEVENT
DTSTART;TZID=Europe/Helsinki:20231223T113000
DTEND;TZID=Europe/Helsinki:20231223T170000
DTSTAMP:20260421T203328
CREATED:20231030T122304Z
LAST-MODIFIED:20231030T122304Z
UID:883-1703331000-1703350800@petanquelijnden.nl
SUMMARY:Kerst Toernooi 2023
DESCRIPTION:
URL:https://petanquelijnden.nl/event/kerst-toernooi-2023/
LOCATION:Petanque Lijnden\, Schipholweg 649\, Lijnden\, 1175 KR\, Nederland
CATEGORIES:Club kampioenschappen
END:VEVENT
BEGIN:VEVENT
DTSTART;TZID=Europe/Helsinki:20231209T120000
DTEND;TZID=Europe/Helsinki:20231209T170000
DTSTAMP:20260421T203328
CREATED:20230919T103954Z
LAST-MODIFIED:20230919T103954Z
UID:843-1702123200-1702141200@petanquelijnden.nl
SUMMARY:NPC Seizoen ’23-’24 Dag 7
DESCRIPTION:
URL:https://petanquelijnden.nl/event/npc-seizoen-23-24-dag-7/
LOCATION:De Bouledozers\, Leekerpad 8\, Zwaag\, 1689 VP\, Nederland
CATEGORIES:NPC
END:VEVENT
BEGIN:VEVENT
DTSTART;TZID=Europe/Helsinki:20231202T120000
DTEND;TZID=Europe/Helsinki:20231202T170000
DTSTAMP:20260421T203328
CREATED:20231030T122149Z
LAST-MODIFIED:20231030T122149Z
UID:880-1701518400-1701536400@petanquelijnden.nl
SUMMARY:Sinterklaas Toernooi 2023
DESCRIPTION:
URL:https://petanquelijnden.nl/event/sinterklaas-toernooi-2023/
LOCATION:Petanque Lijnden\, Schipholweg 649\, Lijnden\, 1175 KR\, Nederland
CATEGORIES:Club kampioenschappen
END:VEVENT
BEGIN:VEVENT
DTSTART;TZID=Europe/Helsinki:20231202T120000
DTEND;TZID=Europe/Helsinki:20231202T170000
DTSTAMP:20260421T203328
CREATED:20230919T103700Z
LAST-MODIFIED:20230919T103700Z
UID:841-1701518400-1701536400@petanquelijnden.nl
SUMMARY:NPC Seizoen ’23-’24 Dag 6  zijn we Vrij dus geen NPC voor ons
DESCRIPTION:
URL:https://petanquelijnden.nl/event/npc-seizoen-23-24-dag-6-zijn-we-vrij-dus-geen-npc-voor-ons/
CATEGORIES:NPC
END:VEVENT
BEGIN:VEVENT
DTSTART;TZID=Europe/Helsinki:20231122T110000
DTEND;TZID=Europe/Helsinki:20231122T170000
DTSTAMP:20260421T203328
CREATED:20230919T101533Z
LAST-MODIFIED:20230919T101533Z
UID:824-1700650800-1700672400@petanquelijnden.nl
SUMMARY:Tussendoortje 2
DESCRIPTION:
URL:https://petanquelijnden.nl/event/tussendoortje-2/
LOCATION:Petanque Lijnden\, Schipholweg 649\, Lijnden\, 1175 KR\, Nederland
CATEGORIES:Open toernooien
END:VEVENT
BEGIN:VEVENT
DTSTART;TZID=Europe/Helsinki:20231118T120000
DTEND;TZID=Europe/Helsinki:20231118T170000
DTSTAMP:20260421T203328
CREATED:20230919T103459Z
LAST-MODIFIED:20230919T103459Z
UID:837-1700308800-1700326800@petanquelijnden.nl
SUMMARY:NPC Seizoen ’23-’24 Dag 5
DESCRIPTION:
URL:https://petanquelijnden.nl/event/npc-seizoen-23-24-dag-5/
LOCATION:De Meteoor\, Perenpad 3\, Amsterdam\, 1033 TB\, Nederland
CATEGORIES:NPC
END:VEVENT
BEGIN:VEVENT
DTSTART;TZID=Europe/Helsinki:20231112T110000
DTEND;TZID=Europe/Helsinki:20231112T170000
DTSTAMP:20260421T203328
CREATED:20230906T151516Z
LAST-MODIFIED:20230906T151523Z
UID:803-1699786800-1699808400@petanquelijnden.nl
SUMMARY:Winter Wonderland
DESCRIPTION:Winter Wonderland evenement \nOp 12 november zal er een Winter Wonderland evenement georganiseerd worden in Lijnden. We organiseren dit samen met Maatvast\, waarvan wij deze locatie al bijna 3 jaar mogen gebruiken. Op 12 november bestaat de Stichting 3 jaar\, dus\nnóg een reden om iets leuks te organiseren. Het evenement zal bestaan uit een\nmarkt met activiteiten\, waaronder bingo\, kindertafel\, loterij\, chocoladeletter\nversieren. Ook zijn er lekkere dingen verkrijgbaar\, zoals erwtensoep\, Glühwein\,\nchocolademelk\, broodje Unox. Als je wilt helpen met de organisatie of leuke\nideeën hebt\, graag! Stuur een mailtje naar cindy@stichtingnooitvoorbij.nl en\ndan wordt er contact met je opgenomen.
URL:https://petanquelijnden.nl/event/winterwonderland/
LOCATION:Petanque Lijnden\, Schipholweg 649\, Lijnden\, 1175 KR\, Nederland
CATEGORIES:Evenement Vluchthaven
END:VEVENT
BEGIN:VEVENT
DTSTART;TZID=Europe/Helsinki:20231111T113000
DTEND;TZID=Europe/Helsinki:20231111T170000
DTSTAMP:20260421T203328
CREATED:20230919T100844Z
LAST-MODIFIED:20230919T100844Z
UID:822-1699702200-1699722000@petanquelijnden.nl
SUMMARY:Snert toernooi
DESCRIPTION:
URL:https://petanquelijnden.nl/event/snert-toernooi/
LOCATION:Petanque Lijnden\, Schipholweg 649\, Lijnden\, 1175 KR\, Nederland
CATEGORIES:Club wedstrijden
END:VEVENT
BEGIN:VEVENT
DTSTART;TZID=Europe/Helsinki:20231104T120000
DTEND;TZID=Europe/Helsinki:20231104T170000
DTSTAMP:20260421T203328
CREATED:20230919T103207Z
LAST-MODIFIED:20230919T103207Z
UID:835-1699099200-1699117200@petanquelijnden.nl
SUMMARY:NPC Seizoen ’23-’24 Dag 4
DESCRIPTION:
URL:https://petanquelijnden.nl/event/npc-seizoen-23-24-dag-4/
LOCATION:Petanque Lijnden\, Schipholweg 649\, Lijnden\, 1175 KR\, Nederland
CATEGORIES:NPC
END:VEVENT
BEGIN:VEVENT
DTSTART;TZID=Europe/Helsinki:20231031T190000
DTEND;TZID=Europe/Helsinki:20231031T223000
DTSTAMP:20260421T203328
CREATED:20230919T100729Z
LAST-MODIFIED:20231030T121936Z
UID:820-1698778800-1698791400@petanquelijnden.nl
SUMMARY:Halloween toernooi ( neem zaklantaarn mee)
DESCRIPTION:
URL:https://petanquelijnden.nl/event/halloween-toernooi/
LOCATION:Petanque Lijnden\, Schipholweg 649\, Lijnden\, 1175 KR\, Nederland
CATEGORIES:Club wedstrijden
END:VEVENT
BEGIN:VEVENT
DTSTART;TZID=Europe/Helsinki:20231021T120000
DTEND;TZID=Europe/Helsinki:20231021T170000
DTSTAMP:20260421T203328
CREATED:20230919T103100Z
LAST-MODIFIED:20230919T103100Z
UID:833-1697889600-1697907600@petanquelijnden.nl
SUMMARY:NPC Seizoen ’23-’24 Dag 3
DESCRIPTION:
URL:https://petanquelijnden.nl/event/npc-seizoen-23-24-dag-3/
LOCATION:Petanque Lijnden\, Schipholweg 649\, Lijnden\, 1175 KR\, Nederland
CATEGORIES:NPC
END:VEVENT
BEGIN:VEVENT
DTSTART;TZID=Europe/Helsinki:20231011T110000
DTEND;TZID=Europe/Helsinki:20231011T170000
DTSTAMP:20260421T203328
CREATED:20230912T135326Z
LAST-MODIFIED:20230912T135326Z
UID:812-1697022000-1697043600@petanquelijnden.nl
SUMMARY:Tussendoortje
DESCRIPTION:TUSSENDOORTJE_20231011
URL:https://petanquelijnden.nl/event/tussendoortje/
LOCATION:Petanque Lijnden\, Schipholweg 649\, Lijnden\, 1175 KR\, Nederland
CATEGORIES:Open toernooien
END:VEVENT
BEGIN:VEVENT
DTSTART;TZID=Europe/Helsinki:20231007T120000
DTEND;TZID=Europe/Helsinki:20231007T170000
DTSTAMP:20260421T203328
CREATED:20230919T102555Z
LAST-MODIFIED:20230919T102938Z
UID:829-1696680000-1696698000@petanquelijnden.nl
SUMMARY:NPC Seizoen '23-'24  Dag 2
DESCRIPTION:
URL:https://petanquelijnden.nl/event/npc-seizoen-23-24-dag-2/
LOCATION:Petanque Club “CA Roule”\, De Vork 6\, Heerhugowaard\, 1704 BX\, Nederland
CATEGORIES:NPC
END:VEVENT
BEGIN:VEVENT
DTSTART;TZID=Europe/Helsinki:20230923T120000
DTEND;TZID=Europe/Helsinki:20230923T170000
DTSTAMP:20260421T203328
CREATED:20230919T102239Z
LAST-MODIFIED:20230919T102239Z
UID:827-1695470400-1695488400@petanquelijnden.nl
SUMMARY:NPC Seizoen '23-'24  Dag 1
DESCRIPTION:
URL:https://petanquelijnden.nl/event/npc-seizoen-23-24-dag-1/
LOCATION:Petanque Lijnden\, Schipholweg 649\, Lijnden\, 1175 KR\, Nederland
CATEGORIES:NPC
END:VEVENT
BEGIN:VEVENT
DTSTART;TZID=Europe/Helsinki:20230916T100000
DTEND;TZID=Europe/Helsinki:20230916T180000
DTSTAMP:20260421T203328
CREATED:20230129T140627Z
LAST-MODIFIED:20230718T140759Z
UID:653-1694858400-1694887200@petanquelijnden.nl
SUMMARY:Kool Lijnden Toernooi
DESCRIPTION:  \n  \n  \n 
URL:https://petanquelijnden.nl/event/kool-toernooi/
LOCATION:Petanque Lijnden\, Schipholweg 649\, Lijnden\, 1175 KR\, Nederland
CATEGORIES:Open toernooien
END:VEVENT
END:VCALENDAR